BEGIN:VCALENDAR
VERSION:2.0
PRODID:-//jEvents 2.0 for Joomla//EN
CALSCALE:GREGORIAN
METHOD:PUBLISH
BEGIN:VEVENT
UID:f1b81b3838fce5474c2f50379b3b7c9d
CATEGORIES:Default Category
SUMMARY:Women's Ministry Meeting via Zoom
DESCRIPTION;ENCODING=QUOTED-PRINTABLE:\n\nJoin Zoom Meeting\nhttps://us02web.zoom.us/j/87124240144?pwd=V3RCc01XK0
 VacldydWNnY2Zhd3NXQT09\n\n\nMeeting ID:&nbsp;871 2424 0144\nPasscode: 01341
 4\nOne tap mobile\n+13017158592,,87124240144#,,,,*013414#&nbsp;US (Washingt
 on DC)\n+13126266799,,87124240144#,,,,*013414#&nbsp;US (Chicago)\n\n\nDial 
 by your location\n+1 301 715 8592&nbsp;US (Washington DC)\n+1 312 626 6799&
 nbsp;US (Chicago)\n+1 929 205 6099&nbsp;US (New York)\n+1 669 900 6833&nbsp
 ;US (San Jose)\n+1 253 215 8782&nbsp;US (Tacoma)\n+1 346 248 7799&nbsp;US (
 Houston)\nMeeting ID:&nbsp;871 2424 0144\nPasscode: 013414\n\n\nFind your l
 ocal number:&nbsp;https://us02web.zoom.us/u/keH8PVXR7l\n\n\n&nbsp;\n
DTSTAMP:20260422T222225Z
DTSTART:20231211T200000Z
SEQUENCE:0
TRANSP:OPAQUE
END:VEVENT
END:VCALENDAR