BEGIN:VCALENDAR
VERSION:2.0
PRODID:-//jEvents 2.0 for Joomla//EN
CALSCALE:GREGORIAN
METHOD:PUBLISH
BEGIN:VEVENT
UID:17c0f49cd79da55d9d0b0d3df418241b
CATEGORIES:Default Category
SUMMARY:Crab Feast - Suicide Bridge Restaurant 
DESCRIPTION;ENCODING=QUOTED-PRINTABLE:\n\n\n
DTSTAMP:20260422T091053Z
DTSTART:20260718T120000Z
DTEND:20260718T150000Z
SEQUENCE:0
TRANSP:OPAQUE
END:VEVENT
END:VCALENDAR