BEGIN:VCALENDAR
VERSION:2.0
PRODID:-//jEvents 2.0 for Joomla//EN
CALSCALE:GREGORIAN
METHOD:PUBLISH
BEGIN:VEVENT
UID:3582e72ff3151eda3185fb32fa31131c
CATEGORIES:Default Category
SUMMARY:Stewarding God's Gift: Estate Planning With Purpose
DESCRIPTION;ENCODING=QUOTED-PRINTABLE:Click Registration Link Below\n\n\n\nRegistration Link:&nbsp;https://forms.
 gle/2PJ9mvuQwPARS5mq7\n
DTSTAMP:20260424T112031Z
DTSTART:20260117T100000Z
DTEND:20260117T120000Z
SEQUENCE:0
TRANSP:OPAQUE
END:VEVENT
END:VCALENDAR