BEGIN:VCALENDAR
VERSION:2.0
PRODID:-//jEvents 2.0 for Joomla//EN
CALSCALE:GREGORIAN
METHOD:PUBLISH
BEGIN:VEVENT
UID:0c62c36e68701db3bfcdbba8d3bc32b8
CATEGORIES:Default Category
SUMMARY:Washington District 5th Sunday Fellowship
DESCRIPTION;ENCODING=QUOTED-PRINTABLE:\n\n\n\n\n@Varick Memorial AME Zion Church\n
DTSTAMP:20260421T075232Z
DTSTART:20250831T150000Z
SEQUENCE:0
TRANSP:OPAQUE
END:VEVENT
END:VCALENDAR