BEGIN:VCALENDAR
VERSION:2.0
PRODID:-//jEvents 2.0 for Joomla//EN
CALSCALE:GREGORIAN
METHOD:PUBLISH
BEGIN:VEVENT
UID:a5414d44a3a509d1e5f04351e5847ae3
CATEGORIES:Default Category
SUMMARY:1st Quarterly Missionary Mass Meeting
DESCRIPTION;ENCODING=QUOTED-PRINTABLE:\n\nLocation:&nbsp; RL Jones AME Zion Church\n
DTSTAMP:20260421T080834Z
DTSTART:20250823T090000Z
SEQUENCE:0
TRANSP:OPAQUE
END:VEVENT
END:VCALENDAR