BEGIN:VCALENDAR
VERSION:2.0
PRODID:-//jEvents 2.0 for Joomla//EN
CALSCALE:GREGORIAN
METHOD:PUBLISH
BEGIN:VEVENT
UID:4e10d86790fbf3037045710e35d70164
CATEGORIES:Default Category
SUMMARY:1st Quarterly Conference - ZOOM
DESCRIPTION;ENCODING=QUOTED-PRINTABLE:
DTSTAMP:20260421T075257Z
DTSTART:20250821T190000Z
SEQUENCE:0
TRANSP:OPAQUE
END:VEVENT
END:VCALENDAR