BEGIN:VCALENDAR
VERSION:2.0
PRODID:-//jEvents 2.0 for Joomla//EN
CALSCALE:GREGORIAN
METHOD:PUBLISH
BEGIN:VEVENT
UID:18b261c52cea6c3d464bff1e6166a60a
CATEGORIES:Default Category
SUMMARY:5th Sunday Combined Fellowship - Lomax AME Zion
DESCRIPTION;ENCODING=QUOTED-PRINTABLE:\n\n\n
DTSTAMP:20260421T162945Z
DTSTART:20250330T153000Z
SEQUENCE:0
TRANSP:OPAQUE
END:VEVENT
END:VCALENDAR