BEGIN:VCALENDAR
VERSION:2.0
PRODID:-//jEvents 2.0 for Joomla//EN
CALSCALE:GREGORIAN
METHOD:PUBLISH
BEGIN:VEVENT
UID:5133ed0a9390d803f9d10c3f7c34f72e
CATEGORIES:Default Category
SUMMARY:Ash Wednesday
DESCRIPTION;ENCODING=QUOTED-PRINTABLE:
DTSTAMP:20260421T163340Z
DTSTART;VALUE=DATE:20250305
DTEND;VALUE=DATE:20250306
SEQUENCE:0
TRANSP:OPAQUE
END:VEVENT
END:VCALENDAR