BEGIN:VCALENDAR
VERSION:2.0
PRODID:-//jEvents 2.0 for Joomla//EN
CALSCALE:GREGORIAN
METHOD:PUBLISH
BEGIN:VEVENT
UID:5da888b2a382352de25990db1cabf947
CATEGORIES:Default Category
SUMMARY:Men & Women's Day Gospel Brunch and Auction
DESCRIPTION;ENCODING=QUOTED-PRINTABLE:\n\n\n
DTSTAMP:20260421T164614Z
DTSTART:20250322T120000Z
SEQUENCE:0
TRANSP:OPAQUE
END:VEVENT
END:VCALENDAR