BEGIN:VCALENDAR
VERSION:2.0
PRODID:-//jEvents 2.0 for Joomla//EN
CALSCALE:GREGORIAN
METHOD:PUBLISH
BEGIN:VEVENT
UID:c5f491ed9cd9f1d743cdd7422aa74f3c
CATEGORIES:Default Category
SUMMARY:Lay Council Black and Gold Gala
DESCRIPTION;ENCODING=QUOTED-PRINTABLE:
DTSTAMP:20260421T201127Z
DTSTART:20250228T183000Z
DTEND:20250228T223000Z
SEQUENCE:0
TRANSP:OPAQUE
END:VEVENT
END:VCALENDAR