BEGIN:VCALENDAR
VERSION:2.0
PRODID:-//jEvents 2.0 for Joomla//EN
CALSCALE:GREGORIAN
METHOD:PUBLISH
BEGIN:VEVENT
UID:9c516c851f5afb1ee2241ecdf5d7f14b
CATEGORIES:Default Category
SUMMARY:HBCU Sunday and Soul Food Dinner !!
DESCRIPTION;ENCODING=QUOTED-PRINTABLE:
DTSTAMP:20260421T201127Z
DTSTART:20250223T100000Z
SEQUENCE:0
TRANSP:OPAQUE
END:VEVENT
END:VCALENDAR