BEGIN:VCALENDAR
VERSION:2.0
PRODID:-//jEvents 2.0 for Joomla//EN
CALSCALE:GREGORIAN
METHOD:PUBLISH
BEGIN:VEVENT
UID:730e1339e3ec22ae1f78fbcf39a2c520
CATEGORIES:Default Category
SUMMARY:Hat Bazaar (Zoom) hosted by Senior Ministry
DESCRIPTION;ENCODING=QUOTED-PRINTABLE:<p>Join Us</p>
DTSTAMP:20260422T132620Z
DTSTART:20240516T130000Z
DTEND:20240516T150000Z
SEQUENCE:0
TRANSP:OPAQUE
END:VEVENT
END:VCALENDAR